BEGIN:VCALENDAR
VERSION:2.0
PRODID:SchoolNow
CALSCALE:GREGORIAN
BEGIN:VEVENT
UID:5e8222c4-faeb-11f0-8cd9-0a58a9feac02
DTSTAMP:20260126T191525Z
SUMMARY:Baseball vs Lassen College
URL;VALUE=URI:https://www.frc.edu/about/calendar/8840765/baseball-vs-lassen
 -college
DTSTART:20260313T210000Z
DTEND:20260313T220000Z
END:VEVENT
END:VCALENDAR
