BEGIN:VCALENDAR
VERSION:2.0
PRODID:SchoolNow
CALSCALE:GREGORIAN
BEGIN:VEVENT
UID:3c6ca5a6-faeb-11f0-9248-0afff05128fb
DTSTAMP:20260126T191428Z
SUMMARY:Baseball Double Header vs College of Siskiyous
URL;VALUE=URI:https://www.frc.edu/about/calendar/8840764/baseball-double-he
 ader-vs-college-of-siskiyous
DTSTART:20260307T200000Z
DTEND:20260307T230000Z
END:VEVENT
END:VCALENDAR
