BEGIN:VCALENDAR
VERSION:2.0
PRODID:SchoolNow
CALSCALE:GREGORIAN
BEGIN:VEVENT
UID:1b5ab5c4-faeb-11f0-93c1-0a58a9feac02
DTSTAMP:20260126T191333Z
SUMMARY:Baseball vs. College of Siskiyous
URL;VALUE=URI:https://www.frc.edu/about/calendar/8840763/baseball-vs-colleg
 e-of-siskiyous
DTSTART:20260306T220000Z
DTEND:20260306T230000Z
END:VEVENT
END:VCALENDAR
