BEGIN:VCALENDAR
VERSION:2.0
PRODID:SchoolNow
CALSCALE:GREGORIAN
BEGIN:VEVENT
UID:f1bbd1bc-faea-11f0-90d6-02039515c9a7
DTSTAMP:20260126T191223Z
SUMMARY:Baseball Double Header vs Butte College
URL;VALUE=URI:https://www.frc.edu/about/calendar/8840762/baseball-double-he
 ader-vs-butte-college
DTSTART:20260221T200000Z
DTEND:20260221T230000Z
END:VEVENT
END:VCALENDAR
