BEGIN:VCALENDAR
VERSION:2.0
PRODID:SchoolNow
CALSCALE:GREGORIAN
BEGIN:VEVENT
UID:75ee7936-faea-11f0-874b-0222e1f31053
DTSTAMP:20260417T172143Z
SUMMARY:Softball vs Lassen College - Double Header
URL;VALUE=URI:https://www.frc.edu/about/calendar/8840761/softball-vs-lassen
 -college-double-header
DTSTART:20260418T190000Z
DTEND:20260418T220000Z
END:VEVENT
END:VCALENDAR
