BEGIN:VCALENDAR
VERSION:2.0
PRODID:SchoolNow
CALSCALE:GREGORIAN
BEGIN:VEVENT
UID:3a211bca-faea-11f0-9c17-0affdc9a4f11
DTSTAMP:20260126T190715Z
SUMMARY:Softball Double Header vs. Butte College
URL;VALUE=URI:https://www.frc.edu/about/calendar/8840760/softball-double-he
 ader-vs-butte-college
DTSTART:20260415T190000Z
DTEND:20260415T220000Z
END:VEVENT
END:VCALENDAR
