BEGIN:VCALENDAR
VERSION:2.0
PRODID:SchoolNow
CALSCALE:GREGORIAN
BEGIN:VEVENT
UID:3885d928-fae9-11f0-b16d-0222e1f31053
DTSTAMP:20260410T183724Z
SUMMARY:Softball Double Header vs. College of Siskiyous - RESCHEDULED-
URL;VALUE=URI:https://www.frc.edu/about/calendar/8840759/softball-double-he
 ader-vs-college-of-sisskiyous
DTSTART:20260420T190000Z
DTEND:20260420T220000Z
END:VEVENT
END:VCALENDAR
