BEGIN:VCALENDAR
VERSION:2.0
PRODID:SchoolNow
CALSCALE:GREGORIAN
BEGIN:VEVENT
UID:ed0d726c-fae8-11f0-9086-0a58a9feac02
DTSTAMP:20260126T185756Z
SUMMARY:Softball Double Header vs. Yuba College
URL;VALUE=URI:https://www.frc.edu/about/calendar/8840758/softball-double-he
 ader-vs-yuba-college
DTSTART:20260327T190000Z
DTEND:20260327T220000Z
END:VEVENT
END:VCALENDAR
