BEGIN:VCALENDAR
VERSION:2.0
PRODID:SchoolNow
CALSCALE:GREGORIAN
BEGIN:VEVENT
UID:8c1c2552-fae8-11f0-84bb-02039515c9a7
DTSTAMP:20260126T185513Z
SUMMARY:Softball vs College of Redwoods (Double Header)
URL;VALUE=URI:https://www.frc.edu/about/calendar/8840757/softball-vs-colleg
 e-of-redwoods-double-header
DTSTART:20260321T190000Z
DTEND:20260321T220000Z
END:VEVENT
END:VCALENDAR
