BEGIN:VCALENDAR
VERSION:2.0
PRODID:SchoolNow
CALSCALE:GREGORIAN
BEGIN:VEVENT
UID:f4912d46-f71c-11f0-8557-0a58a9feac02
DTSTAMP:20260121T230124Z
SUMMARY:FAFSA & CADAA Workshop
LOCATION:Main Computer Lab 201
URL;VALUE=URI:https://www.frc.edu/about/calendar/8839121/financial-literacy
 -workshop-clone-clone-clone-clone-clone-clone-clone-clone-clone-clone-clon
 e-clone-clone-clone
DTSTART:20260224T220000Z
DTEND:20260224T230000Z
END:VEVENT
END:VCALENDAR
