BEGIN:VCALENDAR
VERSION:2.0
PRODID:SchoolNow
CALSCALE:GREGORIAN
BEGIN:VEVENT
UID:3c20d788-cf9f-11f0-b02c-0a58a9feac02
DTSTAMP:20251202T165206Z
SUMMARY:Financial Literacy Workshop
LOCATION:Room 605
URL;VALUE=URI:https://www.frc.edu/about/calendar/8815465/financial-literacy
 -workshop-clone-clone-clone-clone-clone-clone-clone-clone-clone-clone-clon
 e-clone-clone-clone-clone-clone
DTSTART:20260225T180000Z
DTEND:20260225T190000Z
END:VEVENT
END:VCALENDAR
