BEGIN:VCALENDAR
VERSION:2.0
PRODID:SchoolNow
CALSCALE:GREGORIAN
BEGIN:VEVENT
UID:5224ea4a-c402-11f0-bd57-0a58a9feac02
DTSTAMP:20251117T221109Z
SUMMARY:1st Round 3C2A Men's Soccer Playoffs
URL;VALUE=URI:https://www.frc.edu/about/calendar/8800324/1st-round-3c2a-men
 s-soccer-playoffs
DTSTART:20251119T213000Z
DTEND:20251119T223000Z
END:VEVENT
END:VCALENDAR
