BEGIN:VCALENDAR
VERSION:2.0
PRODID:SchoolNow
CALSCALE:GREGORIAN
BEGIN:VEVENT
UID:375099d8-bb44-11f0-8496-0afff3d351ff
DTSTAMP:20260129T162459Z
SUMMARY:Men's Basketball vs Shasta College (Sophomore Night)
URL;VALUE=URI:https://www.frc.edu/about/calendar/8781368/mens-basketball-vs
 -shasta-college
DTSTART:20260207T230000Z
DTEND:20260208T000000Z
END:VEVENT
END:VCALENDAR
