BEGIN:VCALENDAR
VERSION:2.0
PRODID:SchoolNow
CALSCALE:GREGORIAN
BEGIN:VEVENT
UID:0b3003e8-bb44-11f0-85cc-0afffa06ec9d
DTSTAMP:20251106T190856Z
SUMMARY:Men's Basketball vs Butte at home
URL;VALUE=URI:https://www.frc.edu/about/calendar/8781366/mens-basketball-vs
 -butte-at-home
DTSTART:20260131T230000Z
DTEND:20260201T000000Z
END:VEVENT
END:VCALENDAR
