BEGIN:VCALENDAR
VERSION:2.0
PRODID:SchoolNow
CALSCALE:GREGORIAN
BEGIN:VEVENT
UID:ec2eb6e2-bb43-11f0-9faa-02231b95ae21
DTSTAMP:20251106T190804Z
SUMMARY:Men's Basketball vs Siskiyous
URL;VALUE=URI:https://www.frc.edu/about/calendar/8781364/mens-basketball-vs
 -siskiyous
DTSTART:20260124T230000Z
DTEND:20260125T000000Z
END:VEVENT
END:VCALENDAR
