BEGIN:VCALENDAR
VERSION:2.0
PRODID:SchoolNow
CALSCALE:GREGORIAN
BEGIN:VEVENT
UID:d6fbabf0-bb42-11f0-9944-0a58a9feac02
DTSTAMP:20251106T190019Z
SUMMARY:Men's Basketball vs Lassen
URL;VALUE=URI:https://www.frc.edu/about/calendar/8781356/mens-basketball-vs
 -lassen
DTSTART:20260110T230000Z
DTEND:20260111T000000Z
END:VEVENT
END:VCALENDAR
