BEGIN:VCALENDAR
VERSION:2.0
PRODID:SchoolNow
CALSCALE:GREGORIAN
BEGIN:VEVENT
UID:b8eca426-bb41-11f0-bddd-0afffa06ec9d
DTSTAMP:20260129T162405Z
SUMMARY:Women's Basketball vs Shasta (Sophomore Night)
URL;VALUE=URI:https://www.frc.edu/about/calendar/8781349/womens-basketball-
 vs-shasta
DTSTART:20260207T210000Z
DTEND:20260207T220000Z
END:VEVENT
END:VCALENDAR
