BEGIN:VCALENDAR
VERSION:2.0
PRODID:SchoolNow
CALSCALE:GREGORIAN
BEGIN:VEVENT
UID:e0c47cae-bb40-11f0-82ce-0e33ce6fd91d
DTSTAMP:20251106T184617Z
SUMMARY:Women's Basketball vs Butte College
URL;VALUE=URI:https://www.frc.edu/about/calendar/8781299/womens-basketball-
 vs-butte-college
DTSTART:20260131T210000Z
DTEND:20260131T220000Z
END:VEVENT
END:VCALENDAR
