BEGIN:VCALENDAR
VERSION:2.0
PRODID:SchoolNow
CALSCALE:GREGORIAN
BEGIN:VEVENT
UID:9cda12c4-bb40-11f0-8a6d-02231b95ae21
DTSTAMP:20251106T184423Z
SUMMARY:Women's Basketball vs Siskiyous
URL;VALUE=URI:https://www.frc.edu/about/calendar/8781298/womens-basketball-
 vs-siskiyous
DTSTART:20260124T210000Z
DTEND:20260124T220000Z
END:VEVENT
END:VCALENDAR
