BEGIN:VCALENDAR
VERSION:2.0
PRODID:SchoolNow
CALSCALE:GREGORIAN
BEGIN:VEVENT
UID:3360f1dc-bb40-11f0-83d4-0a58a9feac02
DTSTAMP:20251106T184126Z
SUMMARY:Women's Basketball vs Lassen College
URL;VALUE=URI:https://www.frc.edu/about/calendar/8781296/womens-basketball-
 vs-lassen-college
DTSTART:20260110T210000Z
DTEND:20260110T220000Z
END:VEVENT
END:VCALENDAR
