BEGIN:VCALENDAR
VERSION:2.0
PRODID:SchoolNow
CALSCALE:GREGORIAN
BEGIN:VEVENT
UID:8eb9cd38-ba6e-11f0-9e9c-0a58a9feac02
DTSTAMP:20251106T191220Z
SUMMARY:Women's Basketball vs Los Medanos at home!
URL;VALUE=URI:https://www.frc.edu/about/calendar/8779097/womens-basketball-
 vs-los-medanos-at-home
DTSTART:20251120T010000Z
DTEND:20251120T020000Z
END:VEVENT
END:VCALENDAR
