BEGIN:VCALENDAR
VERSION:2.0
PRODID:SchoolNow
CALSCALE:GREGORIAN
BEGIN:VEVENT
UID:8fb11e38-b0f2-11f0-ae75-0affe6eaa2ad
DTSTAMP:20251024T160028Z
SUMMARY:FRC Open House
LOCATION:The Perch
URL;VALUE=URI:https://www.frc.edu/about/calendar/8747464/frc-open-house
DTSTART:20251024T190000Z
DTEND:20251024T220000Z
END:VEVENT
END:VCALENDAR
