BEGIN:VCALENDAR
VERSION:2.0
PRODID:SchoolNow
CALSCALE:GREGORIAN
BEGIN:VEVENT
UID:96f629c8-aa11-11f0-b154-0a58a9feac02
DTSTAMP:20251015T215457Z
SUMMARY:First Time Borrower Loan Disbursement
URL;VALUE=URI:https://www.frc.edu/about/calendar/8725230/first-time-borrowe
 r-loan-disbursement
DTSTART;VALUE=DATE:20260218
DTEND;VALUE=DATE:20260219
END:VEVENT
END:VCALENDAR
