BEGIN:VCALENDAR
VERSION:2.0
PRODID:SchoolNow
CALSCALE:GREGORIAN
BEGIN:VEVENT
UID:d8c80bc8-a3ae-11f0-9219-0a58a9feac02
DTSTAMP:20251007T185300Z
SUMMARY:FRC Volleyball vs. Butte at HOME!
URL;VALUE=URI:https://www.frc.edu/about/calendar/8702963/frc-volleyball-vs-
 butte-at-home
DTSTART:20251030T010000Z
DTEND:20251030T020000Z
END:VEVENT
END:VCALENDAR
