BEGIN:VCALENDAR
VERSION:2.0
PRODID:SchoolNow
CALSCALE:GREGORIAN
BEGIN:VEVENT
UID:52704d6c-97f9-11f0-9ece-02d4aeb81cfd
DTSTAMP:20250922T211553Z
SUMMARY:Home VB vs. Shasta College
URL;VALUE=URI:https://www.frc.edu/about/calendar/8654419/home-vb-vs-shasta-
 college
DTSTART:20251025T010000Z
DTEND:20251025T020000Z
END:VEVENT
END:VCALENDAR
