BEGIN:VCALENDAR
VERSION:2.0
PRODID:SchoolNow
CALSCALE:GREGORIAN
BEGIN:VEVENT
UID:dd9c86f8-9281-11f0-8924-0e3e0f5850df
DTSTAMP:20250915T221811Z
SUMMARY:Constitution Day
URL;VALUE=URI:https://www.frc.edu/about/calendar/8626204/constitution-day
DTSTART;VALUE=DATE:20250917
DTEND;VALUE=DATE:20250918
END:VEVENT
END:VCALENDAR
