BEGIN:VCALENDAR
VERSION:2.0
PRODID:SchoolNow
CALSCALE:GREGORIAN
BEGIN:VEVENT
UID:2a9620c6-7a0a-11f0-9c9c-0affe844e53d
DTSTAMP:20250815T190053Z
SUMMARY:Football Scrimmage vs. Simpson University!
URL;VALUE=URI:https://www.frc.edu/about/calendar/8511090/football-scrimmage
 -vs-simpson-university
DTSTART:20250816T180000Z
DTEND:20250816T190000Z
END:VEVENT
END:VCALENDAR
