BEGIN:VCALENDAR
VERSION:2.0
PRODID:SchoolNow
CALSCALE:GREGORIAN
BEGIN:VEVENT
UID:d68f48f6-76fb-11f0-b7f2-026868b05a49
DTSTAMP:20250811T214045Z
SUMMARY:Women's Soccer vs Mendocino
URL;VALUE=URI:https://www.frc.edu/about/calendar/8492476/womens-soccer-vs-m
 endocino
DTSTART:20250822T210000Z
DTEND:20250822T220000Z
END:VEVENT
END:VCALENDAR
