BEGIN:VCALENDAR
VERSION:2.0
PRODID:SchoolNow
CALSCALE:GREGORIAN
BEGIN:VEVENT
UID:f96dc0a6-582d-11f0-926d-0a58a9feac02
DTSTAMP:20251020T220612Z
SUMMARY:Volleyball vs. Redwoods
URL;VALUE=URI:https://www.frc.edu/about/calendar/8381069/come-out-to-watch-
 volleyball-as-they-take-on-redwoods
DTSTART:20251108T000000Z
DTEND:20251108T010000Z
END:VEVENT
END:VCALENDAR
