BEGIN:VCALENDAR
VERSION:2.0
PRODID:SchoolNow
CALSCALE:GREGORIAN
BEGIN:VEVENT
UID:443f2be8-582d-11f0-af15-0a58a9feac02
DTSTAMP:20250703T164629Z
SUMMARY:Volleyball vs Lassen at home
URL;VALUE=URI:https://www.frc.edu/about/calendar/8381067/volleyball-vs-lass
 en-at-home
DTSTART:20251023T010000Z
DTEND:20251023T020000Z
END:VEVENT
END:VCALENDAR
