BEGIN:VCALENDAR
VERSION:2.0
PRODID:SchoolNow
CALSCALE:GREGORIAN
BEGIN:VEVENT
UID:d27a39ca-5797-11f0-ac5a-0a58a9feac02
DTSTAMP:20250702T225643Z
SUMMARY:Independence Day Holiday (Campus Closed)
URL;VALUE=URI:https://www.frc.edu/about/calendar/8378761/independence-day-h
 oliday-campus-closed
DTSTART:20250704T225400Z
DTEND:20250704T235400Z
END:VEVENT
END:VCALENDAR
