BEGIN:VCALENDAR
VERSION:2.0
PRODID:SchoolNow
CALSCALE:GREGORIAN
BEGIN:VEVENT
UID:fc7a6846-4ae3-11f0-a688-02de2f7b37e7
DTSTAMP:20250616T185910Z
SUMMARY:Women's Soccer vs. Shasta
URL;VALUE=URI:https://www.frc.edu/about/calendar/8311288/womens-soccer-vs-s
 hasta
DTSTART:20251111T213000Z
DTEND:20251111T223000Z
END:VEVENT
END:VCALENDAR
