BEGIN:VCALENDAR
VERSION:2.0
PRODID:SchoolNow
CALSCALE:GREGORIAN
BEGIN:VEVENT
UID:b79c7a20-4ae3-11f0-b177-0a58a9feac02
DTSTAMP:20250616T185714Z
SUMMARY:Women's Soccer vs. Lake Tahoe
URL;VALUE=URI:https://www.frc.edu/about/calendar/8311281/womens-soccer-vs-l
 ake-tahoe
DTSTART:20251028T230000Z
DTEND:20251029T000000Z
END:VEVENT
END:VCALENDAR
