BEGIN:VCALENDAR
VERSION:2.0
PRODID:SchoolNow
CALSCALE:GREGORIAN
BEGIN:VEVENT
UID:9a1f7042-4ae3-11f0-b7a1-0a58a9feac02
DTSTAMP:20250616T185625Z
SUMMARY:Women's Soccer vs. Redwoods
URL;VALUE=URI:https://www.frc.edu/about/calendar/8311278/womens-soccer-vs-r
 edwoods
DTSTART:20251014T203000Z
DTEND:20251014T213000Z
END:VEVENT
END:VCALENDAR
