BEGIN:VCALENDAR
VERSION:2.0
PRODID:SchoolNow
CALSCALE:GREGORIAN
BEGIN:VEVENT
UID:7774ed88-4ae3-11f0-af6a-0200d7c8dff9
DTSTAMP:20250616T185527Z
SUMMARY:Women's Soccer vs. Siskiyous
URL;VALUE=URI:https://www.frc.edu/about/calendar/8311277/womens-soccer-vs-s
 iskiyous
DTSTART:20250926T230000Z
DTEND:20250927T000000Z
END:VEVENT
END:VCALENDAR
