BEGIN:VCALENDAR
VERSION:2.0
PRODID:SchoolNow
CALSCALE:GREGORIAN
BEGIN:VEVENT
UID:2fa12e5e-4ae3-11f0-9726-0e9989983943
DTSTAMP:20250616T185326Z
SUMMARY:Men's Soccer vs. Shasta
URL;VALUE=URI:https://www.frc.edu/about/calendar/8311276/mens-soccer-vs-sha
 sta
DTSTART:20251111T190000Z
DTEND:20251111T200000Z
END:VEVENT
END:VCALENDAR
