BEGIN:VCALENDAR
VERSION:2.0
PRODID:SchoolNow
CALSCALE:GREGORIAN
BEGIN:VEVENT
UID:dbfbcc6e-4ae2-11f0-bffd-0a58a9feac02
DTSTAMP:20250616T185106Z
SUMMARY:Men's Soccer vs. Lake Tahoe
URL;VALUE=URI:https://www.frc.edu/about/calendar/8311274/mens-soccer-vs-lak
 e-tahoe
DTSTART:20251028T203000Z
DTEND:20251028T213000Z
END:VEVENT
END:VCALENDAR
