BEGIN:VCALENDAR
VERSION:2.0
PRODID:SchoolNow
CALSCALE:GREGORIAN
BEGIN:VEVENT
UID:8eedd3d6-4ae2-11f0-bb22-0e9989983943
DTSTAMP:20250616T184856Z
SUMMARY:Men's Soccer vs. Redwoods
URL;VALUE=URI:https://www.frc.edu/about/calendar/8311273/mens-soccer-vs-red
 woods
DTSTART:20251014T180000Z
DTEND:20251014T190000Z
END:VEVENT
END:VCALENDAR
