BEGIN:VCALENDAR
VERSION:2.0
PRODID:SchoolNow
CALSCALE:GREGORIAN
BEGIN:VEVENT
UID:37e18e0c-4ae2-11f0-a824-022fd56b161f
DTSTAMP:20250616T184630Z
SUMMARY:Men's Soccer vs. Clovis College
URL;VALUE=URI:https://www.frc.edu/about/calendar/8311272/mens-soccer-vs-clo
 vis-college
DTSTART:20250930T230000Z
DTEND:20251001T000000Z
END:VEVENT
END:VCALENDAR
