BEGIN:VCALENDAR
VERSION:2.0
PRODID:SchoolNow
CALSCALE:GREGORIAN
BEGIN:VEVENT
UID:e0097140-4ae1-11f0-9039-0a58a9feac02
DTSTAMP:20250616T184403Z
SUMMARY:Men's Soccer at home vs. Siskiyous
URL;VALUE=URI:https://www.frc.edu/about/calendar/8310735/mens-soccer-at-hom
 e-vs-siskiyous
DTSTART:20250926T203000Z
DTEND:20250926T213000Z
END:VEVENT
END:VCALENDAR
