BEGIN:VCALENDAR
VERSION:2.0
PRODID:SchoolNow
CALSCALE:GREGORIAN
BEGIN:VEVENT
UID:8eb90828-4ae1-11f0-9b47-0affe33dc041
DTSTAMP:20250811T214256Z
SUMMARY:Men's Soccer vs DeAnza College at home
URL;VALUE=URI:https://www.frc.edu/about/calendar/8310734/mens-soccer-vs-dea
 nza-college-at-home
DTSTART:20250913T200000Z
DTEND:20250913T210000Z
END:VEVENT
END:VCALENDAR
