BEGIN:VCALENDAR
VERSION:2.0
PRODID:SchoolNow
CALSCALE:GREGORIAN
BEGIN:VEVENT
UID:d4cf17a0-4adf-11f0-8c10-0a58a9feac02
DTSTAMP:20250616T182925Z
SUMMARY:Football vs. San Joaquin Delta
URL;VALUE=URI:https://www.frc.edu/about/calendar/8310193/football-vs-san-jo
 aquin-delta
DTSTART:20251019T000000Z
DTEND:20251019T010000Z
END:VEVENT
END:VCALENDAR
