BEGIN:VCALENDAR
VERSION:2.0
PRODID:SchoolNow
CALSCALE:GREGORIAN
BEGIN:VEVENT
UID:8e5970c2-4adf-11f0-82a1-0affd0038d69
DTSTAMP:20250616T182727Z
SUMMARY:Football vs. Cabrillo
URL;VALUE=URI:https://www.frc.edu/about/calendar/8310192/football-vs-cabril
 lo
DTSTART:20250927T200000Z
DTEND:20250927T210000Z
END:VEVENT
END:VCALENDAR
