BEGIN:VCALENDAR
VERSION:2.0
PRODID:SchoolNow
CALSCALE:GREGORIAN
BEGIN:VEVENT
UID:4cfb8084-4adf-11f0-acd3-0affe11e2879
DTSTAMP:20250616T182537Z
SUMMARY:Football vs. Hartnell
URL;VALUE=URI:https://www.frc.edu/about/calendar/8310191/football-vs-hartne
 ll
DTSTART:20250920T200000Z
DTEND:20250920T210000Z
END:VEVENT
END:VCALENDAR
