BEGIN:VCALENDAR
VERSION:2.0
PRODID:SchoolNow
CALSCALE:GREGORIAN
BEGIN:VEVENT
UID:33fd9e9c-ea35-11ef-b297-0e037bbf8ffd
DTSTAMP:20251015T214548Z
SUMMARY:State Financial Aid Deadline
URL;VALUE=URI:https://www.frc.edu/about/calendar/7463792/state-financial-ai
 d-deadline
DTSTART;VALUE=DATE:20260302
DTEND;VALUE=DATE:20260303
END:VEVENT
END:VCALENDAR
