BEGIN:VCALENDAR
VERSION:2.0
PRODID:SchoolNow
CALSCALE:GREGORIAN
BEGIN:VEVENT
UID:55200488-bd68-11ef-b5fc-0a58a9feac02
DTSTAMP:20251015T215411Z
SUMMARY:Returning and Single Semester Borrower Loan Disbursement
URL;VALUE=URI:https://www.frc.edu/about/calendar/7191422/returning-and-sing
 le-semester-borrower-loan-disburesment
DTSTART;VALUE=DATE:20260112
DTEND;VALUE=DATE:20260113
END:VEVENT
END:VCALENDAR
