BEGIN:VCALENDAR
VERSION:2.0
PRODID:SchoolNow
CALSCALE:GREGORIAN
BEGIN:VEVENT
UID:f37aed30-43d0-11ef-85da-028d8f183b07
DTSTAMP:20240717T001018Z
SUMMARY:Faculty Structured Flex Days
URL;VALUE=URI:https://www.frc.edu/about/calendar/6270290/faculty-structured
 -flex-days-clone-clone-clone
DTSTART;VALUE=DATE:20240812
DTEND;VALUE=DATE:20240814
END:VEVENT
END:VCALENDAR
