BEGIN:VCALENDAR
VERSION:2.0
PRODID:SchoolNow
CALSCALE:GREGORIAN
BEGIN:VEVENT
UID:ee495c1a-43cc-11ef-af7f-0a58a9feac02
DTSTAMP:20240716T234132Z
SUMMARY:Fall 2025 registration for non-matriculated new and continuing stud
 ents begins
URL;VALUE=URI:https://www.frc.edu/about/calendar/6270271/spring-2023-regist
 ration-for-non-matriculated-new-and-continuing-students-begins-clone-clone
 -clone
DTSTART;VALUE=DATE:20250421
DTEND;VALUE=DATE:20250422
END:VEVENT
END:VCALENDAR
