BEGIN:VCALENDAR
VERSION:2.0
PRODID:SchoolNow
CALSCALE:GREGORIAN
BEGIN:VEVENT
UID:e0f90ab0-2e41-11ef-99a9-0a58a9feac02
DTSTAMP:20240619T134339Z
SUMMARY:Juneteenth (Campus Closed)
URL;VALUE=URI:https://www.frc.edu/about/calendar/6144083/juneteenth
DTSTART:20240619T134200Z
DTEND:20240619T144200Z
END:VEVENT
END:VCALENDAR
