BEGIN:VCALENDAR
VERSION:2.0
PRODID:SchoolNow
CALSCALE:GREGORIAN
BEGIN:VEVENT
UID:cd1a4706-0c87-11ef-8585-0a58a9feac02
DTSTAMP:20240507T153807Z
SUMMARY:Baseball Northern California Super Regional
LOCATION:FRC Baseball Field
URL;VALUE=URI:https://www.frc.edu/about/calendar/5929674/baseball-northern-
 california-super-regional
DTSTART:20240511T180000Z
DTEND:20240512T020000Z
END:VEVENT
END:VCALENDAR
